BEGIN:VCALENDAR
VERSION:2.0
METHOD:PUBLISH
PRODID:-//wess//calfeed//JP
X-WR-CALNAME:wess公演スケジュール
X-WR-CALDESC: - supplied by https://wess.jp
X-WR-TIMEZONE:Asia/Tokyo
CALSCALE:GREGORIAN
LAST-MODIFIED:20260327T145033Z

BEGIN:VTIMEZONE
TZID:Asia/Tokyo
X-LIC-LOCATION:Asia/Tokyo
BEGIN:STANDARD
TZOFFSETFROM:+091859
TZOFFSETTO:+0900
TZNAME:JST
DTSTART:18880101T001859
RDATE;VALUE=DATE-TIME:18880101T001859
END:STANDARD
BEGIN:STANDARD
TZOFFSETFROM:+0900
TZOFFSETTO:+0900
TZNAME:CJT
DTSTART:18960101T000000
RDATE;VALUE=DATE-TIME:18960101T000000
END:STANDARD
BEGIN:STANDARD
TZOFFSETFROM:+0900
TZOFFSETTO:+0900
TZNAME:JST
DTSTART:19380101T000000
RDATE;VALUE=DATE-TIME:19380101T000000
END:STANDARD
BEGIN:DAYLIGHT
TZOFFSETFROM:+0900
TZOFFSETTO:+1000
TZNAME:JDT
DTSTART:19480502T020000
RDATE;VALUE=DATE-TIME:19480502T020000
RDATE;VALUE=DATE-TIME:19490403T020000
RDATE;VALUE=DATE-TIME:19500507T020000
RDATE;VALUE=DATE-TIME:19510506T020000
END:DAYLIGHT
BEGIN:STANDARD
TZOFFSETFROM:+1000
TZOFFSETTO:+0900
TZNAME:JST
DTSTART:19480911T020000
RDATE;VALUE=DATE-TIME:19480911T020000
RDATE;VALUE=DATE-TIME:19490910T020000
RDATE;VALUE=DATE-TIME:19500909T020000
RDATE;VALUE=DATE-TIME:19510908T020000
END:STANDARD
END:VTIMEZONE

BEGIN:VEVENT
UID:WESSICAL23387
URL;VALUE=URI:https://wess.jp/bandmaid/
LAST-MODIFIED:20260327145033TZ
DTSTAMP:20260712T163000
DTSTART;VALUE=DATE:20260712T173000
DTEND;VALUE=DATE:20260712T193000
SUMMARY:BAND-MAID BAND-MAID WORLD TOUR 2026
LOCATION:サッポロファクトリーホール
DESCRIPTION:発売日:未定
	
END:VEVENT

END:VCALENDAR